BEGIN:VCALENDAR
VERSION:2.0
PRODID:-//Spiritual Soul Center - ECPv6.15.16//NONSGML v1.0//EN
CALSCALE:GREGORIAN
METHOD:PUBLISH
X-WR-CALNAME:Spiritual Soul Center
X-ORIGINAL-URL:https://spiritualsoulcenter.org
X-WR-CALDESC:Events for Spiritual Soul Center
REFRESH-INTERVAL;VALUE=DURATION:PT1H
X-Robots-Tag:noindex
X-PUBLISHED-TTL:PT1H
BEGIN:VTIMEZONE
TZID:America/New_York
BEGIN:DAYLIGHT
TZOFFSETFROM:-0500
TZOFFSETTO:-0400
TZNAME:EDT
DTSTART:20240310T070000
END:DAYLIGHT
BEGIN:STANDARD
TZOFFSETFROM:-0400
TZOFFSETTO:-0500
TZNAME:EST
DTSTART:20241103T060000
END:STANDARD
BEGIN:DAYLIGHT
TZOFFSETFROM:-0500
TZOFFSETTO:-0400
TZNAME:EDT
DTSTART:20250309T070000
END:DAYLIGHT
BEGIN:STANDARD
TZOFFSETFROM:-0400
TZOFFSETTO:-0500
TZNAME:EST
DTSTART:20251102T060000
END:STANDARD
BEGIN:DAYLIGHT
TZOFFSETFROM:-0500
TZOFFSETTO:-0400
TZNAME:EDT
DTSTART:20260308T070000
END:DAYLIGHT
BEGIN:STANDARD
TZOFFSETFROM:-0400
TZOFFSETTO:-0500
TZNAME:EST
DTSTART:20261101T060000
END:STANDARD
END:VTIMEZONE
BEGIN:VEVENT
DTSTART;TZID=America/New_York:20251212T180000
DTEND;TZID=America/New_York:20251212T203000
DTSTAMP:20260423T175543
CREATED:20251102T004345Z
LAST-MODIFIED:20251102T004345Z
UID:10001484-1765562400-1765571400@spiritualsoulcenter.org
SUMMARY:Theatre for All - More Than Words
DESCRIPTION:You are invited to join the Soul Center family for this incredible TFA performance at Hannah Block Community Center on Friday\, December 12th .Let’s enjoy the show together.                       Another Soul Center FUNday!!!1. Make your payment to SSC for $25 for each ticket. $10 for youth.2. Pay by check or Venmo or cash in an envelope\, include a note: TFA Play.3. Payment must be made no later than Sunday\, November 16th.4. Tickets will be available at Hannah Block that evening. Paula will be waiting for you to arrive. Be sure to get there early for refreshments and special entertainment in the lobby starting at 6pm.
URL:https://spiritualsoulcenter.org/event/theatre-for-all-more-than-words/
LOCATION:Hannah Block Community Center\, 120 S 2nd St\,\, Wilmington\, NC\, 28401\, United States
ATTACH;FMTTYPE=image/jpeg:https://spiritualsoulcenter.org/wp-content/uploads/2025/11/TFA-2-770x400-1.jpg
END:VEVENT
END:VCALENDAR